BEGIN:VCALENDAR
VERSION:2.0
PRODID:-//https://www.browardmpo.org///NONSGML kigkonsult.se iCalcreator 2.10.15//
METHOD:PUBLISH
BEGIN:VEVENT
UID:20260422T043003UTC-3752lMso5B@https://www.browardmpo.org/
DTSTAMP:20260422T043003Z
DESCRIPTION:Register in advance for this webinar:&nbsp\;https://us02web.zoo
 m.us/webinar/register/4016947193517/WN_IqOOfW8FR1mLA3kJwqLqZg\nAfter regis
 tering\, you will receive a confirmation email containing information abou
 t joining the webinar. https://www.browardmpo.org/calendar/event/1414-canc
 elled-mpo-executive-committee
DTSTART:20231214T140000Z
DTEND:20231214T143000Z
LOCATION:Broward MPO Office - Board Room ( 100 West Cypress Creek Road\, 6t
 h Floor\, Suite 650\, Fort Lauderdale\, FL 33309-2112)
SUMMARY:CANCELLED - MPO Executive Committee
URL:https://www.browardmpo.org/calendar/event/1414-cancelled-mpo-executive-
 committee
END:VEVENT
BEGIN:VEVENT
UID:20260422T043003UTC-3753xoBBVa@https://www.browardmpo.org/
DTSTAMP:20260422T043003Z
DESCRIPTION: https://www.browardmpo.org/calendar/event/1426-cancelled-mpo-b
 oard-meeting
DTSTART:20231214T143000Z
DTEND:20231215T043000Z
LOCATION:Broward MPO Office - Board Room ( 100 West Cypress Creek Road\, 6t
 h Floor\, Suite 650\, Fort Lauderdale\, FL 33309-2112)
SUMMARY:CANCELLED - MPO Board Meeting
URL:https://www.browardmpo.org/calendar/event/1426-cancelled-mpo-board-meet
 ing
END:VEVENT
BEGIN:VEVENT
UID:20260422T043003UTC-3753I03NNv@https://www.browardmpo.org/
DTSTAMP:20260422T043003Z
DESCRIPTION: https://www.browardmpo.org/calendar/event/1437-metro-transport
 ation-engineering-construction-cooperative-mtecc-board-meeting
DTSTART:20231214T140000Z
DTEND:20231214T143000Z
LOCATION:Broward MPO Office - Executive Conference Room ( 100 West Cypress 
 Creek Road\, 6th Floor\, Suite 650\, Fort Lauderdale\, FL 33309-2112)
SUMMARY:Metro Transportation Engineering & Construction Cooperative (MTECC)
  Board Meeting
URL:https://www.browardmpo.org/calendar/event/1437-metro-transportation-eng
 ineering-construction-cooperative-mtecc-board-meeting
END:VEVENT
BEGIN:VEVENT
UID:20260422T043003UTC-3754uhjEkM@https://www.browardmpo.org/
DTSTAMP:20260422T043003Z
DESCRIPTION: https://www.browardmpo.org/calendar/event/1449-cancelled-resil
 iency-and-affordable-housing-committee-rahc
DTSTART:20231212T190000Z
DTEND:20231212T210000Z
LOCATION:Broward MPO Office - Board Room ( 100 West Cypress Creek Road\, 6t
 h Floor\, Suite 650\, Fort Lauderdale\, FL 33309-2112)
SUMMARY:CANCELLED - Resiliency and Affordable Housing Committee (RAHC)
URL:https://www.browardmpo.org/calendar/event/1449-cancelled-resiliency-and
 -affordable-housing-committee-rahc
END:VEVENT
END:VCALENDAR
