BEGIN:VCALENDAR
VERSION:2.0
PRODID:-//https://www.browardmpo.org///NONSGML kigkonsult.se iCalcreator 2.10.15//
METHOD:PUBLISH
BEGIN:VEVENT
UID:20260419T082702UTC-2416OC8AVb@https://www.browardmpo.org/
DTSTAMP:20260419T082702Z
DESCRIPTION: https://www.browardmpo.org/calendar/event/146-county-city-work
 ing-group-meeting
DTSTART:20160818T190000Z
DTEND:20160818T210000Z
LOCATION:West Regional Library\, Upstairs Conference Room #230 (8601 West B
 roward Boulevard\, Plantation\, FL 33324)
SUMMARY:County & City Working Group Meeting
URL:https://www.browardmpo.org/calendar/event/146-county-city-working-group
 -meeting
END:VEVENT
END:VCALENDAR
