BEGIN:VCALENDAR
VERSION:2.0
PRODID:-//https://www.browardmpo.org///NONSGML kigkonsult.se iCalcreator 2.10.15//
METHOD:PUBLISH
BEGIN:VEVENT
UID:20260421T103649UTC-6898AVFgG7@https://www.browardmpo.org/
DTSTAMP:20260421T103649Z
DESCRIPTION:There is no Executive Committee Meeting in August. https://www.
 browardmpo.org/calendar/event/92-there-is-no-executive-committee-meeting-i
 n-august
DTSTART;VALUE=DATE:20160804
LOCATION:Broward MPO Office - Board Room ( 100 West Cypress Creek Road\, 6t
 h Floor\, Suite 650\, Fort Lauderdale\, FL 33309-2112)
SUMMARY: There is no Executive Committee Meeting in August
URL:https://www.browardmpo.org/calendar/event/92-there-is-no-executive-comm
 ittee-meeting-in-august
END:VEVENT
BEGIN:VEVENT
UID:20260421T103649UTC-6899KVlnOT@https://www.browardmpo.org/
DTSTAMP:20260421T103649Z
DESCRIPTION:A presentation about lessons learned from other referenda.&nbsp
 \; https://www.browardmpo.org/calendar/event/141-lessons-learned-workshop-
 education-and-outreach-from-other-referenda
DTSTART:20160802T160000Z
DTEND:20160802T173000Z
LOCATION:Broward MPO Office - Board Room (100 West Cypress Creek Road\, 8th
  Floor\, Suite 850\, Fort Lauderdale\, FL 33309-2112)
SUMMARY:Lessons Learned Workshop: Education and Outreach from Other Referen
 da
URL:https://www.browardmpo.org/calendar/event/141-lessons-learned-workshop-
 education-and-outreach-from-other-referenda
END:VEVENT
BEGIN:VEVENT
UID:20260421T103649UTC-6899RXTOW0@https://www.browardmpo.org/
DTSTAMP:20260421T103649Z
DESCRIPTION:Federal Highway Administration (FHWA) will be providing Title V
 I and ADA training. This will be open to MPO municipalities and partners. 
 &nbsp\;Click here for agenda. https://www.browardmpo.org/calendar/event/14
 2-title-vi-ada-training
DTSTART:20160804T130000Z
DTEND:20160804T160000Z
LOCATION:Broward MPO Office - Board Room (100 West Cypress Creek Road\, 8th
  Floor\, Suite 850\, Fort Lauderdale\, FL 33309-2112)
SUMMARY:Title VI / ADA Training
URL:https://www.browardmpo.org/calendar/event/142-title-vi-ada-training
END:VEVENT
BEGIN:VEVENT
UID:20260421T103649UTC-6900H5KF6o@https://www.browardmpo.org/
DTSTAMP:20260421T103649Z
DESCRIPTION: https://www.browardmpo.org/calendar/event/144-county-city-work
 ing-group-meeting
DTSTART:20160804T190000Z
DTEND:20160804T210000Z
LOCATION:West Regional Library\, Upstairs Conference Room #230 (8601 West B
 roward Boulevard\, Plantation\, FL 33324)
SUMMARY:County & City Working Group Meeting
URL:https://www.browardmpo.org/calendar/event/144-county-city-working-group
 -meeting
END:VEVENT
END:VCALENDAR
