BEGIN:VCALENDAR
VERSION:2.0
PRODID:-//https://www.browardmpo.org///NONSGML kigkonsult.se iCalcreator 2.10.15//
METHOD:PUBLISH
BEGIN:VEVENT
UID:20260421T121440UTC-0559zGf534@https://www.browardmpo.org/
DTSTAMP:20260421T121440Z
DESCRIPTION: https://www.browardmpo.org/calendar/event/143-city-and-county-
 surtax-outreach-working-group-kick-off-meeting
DTSTART:20160728T200000Z
DTEND:20160728T213000Z
LOCATION:West Regional Library\, Upstairs Conference Room #230\, 8601 West 
 Broward Boulevard\, Plantation\, FL 33324 (8601 W Broward Blvd\, Plantatio
 n\, FL 33324\, USA)
SUMMARY:City and County Surtax Outreach Working Group Kick-Off Meeting
URL:https://www.browardmpo.org/calendar/event/143-city-and-county-surtax-ou
 treach-working-group-kick-off-meeting
END:VEVENT
END:VCALENDAR
