BEGIN:VCALENDAR
VERSION:2.0
PRODID:-//https://www.browardmpo.org///NONSGML kigkonsult.se iCalcreator 2.10.15//
METHOD:PUBLISH
BEGIN:VEVENT
UID:20260422T033529UTC-7800CIMTUU@https://www.browardmpo.org/
DTSTAMP:20260422T033529Z
DESCRIPTION:6:00 p.m. MPO Board Room https://www.browardmpo.org/calendar/ev
 ent/7-canceled-citizens-advisory-committee-cac
DTSTART:20160525T220000Z
DTEND:20160526T000000Z
LOCATION:Broward MPO Office - Board Room (100 West Cypress Creek Road\, 8th
  Floor\, Suite 850\, Fort Lauderdale\, FL 33309-2112)
SUMMARY:Canceled Citizen’s Advisory Committee (CAC)
URL:https://www.browardmpo.org/calendar/event/7-canceled-citizens-advisory-
 committee-cac
END:VEVENT
BEGIN:VEVENT
UID:20260422T033529UTC-7801P4fgWi@https://www.browardmpo.org/
DTSTAMP:20260422T033529Z
DESCRIPTION: https://www.browardmpo.org/calendar/event/27-local-coordinatin
 g-board
DTSTART:20160523T140000Z
DTEND:20160523T160000Z
LOCATION:Broward MPO Office - Board Room ( 100 West Cypress Creek Road\, 6t
 h Floor\, Suite 650\, Fort Lauderdale\, FL 33309-2112)
SUMMARY:Local Coordinating Board
URL:https://www.browardmpo.org/calendar/event/27-local-coordinating-board
END:VEVENT
BEGIN:VEVENT
UID:20260422T033529UTC-7801fuTdPV@https://www.browardmpo.org/
DTSTAMP:20260422T033529Z
DESCRIPTION: https://www.browardmpo.org/calendar/event/54-canceled-technica
 l-advisory-committee-tac
DTSTART:20160525T183000Z
DTEND:20160525T203000Z
LOCATION: ()
SUMMARY:Canceled Technical Advisory Committee (TAC)
URL:https://www.browardmpo.org/calendar/event/54-canceled-technical-advisor
 y-committee-tac
END:VEVENT
BEGIN:VEVENT
UID:20260422T033529UTC-7802zz7z2p@https://www.browardmpo.org/
DTSTAMP:20260422T033529Z
DESCRIPTION: https://www.browardmpo.org/calendar/event/139-sw-10th-street-c
 oat-meeting
DTSTART:20160526T220000Z
DTEND:20160527T000000Z
LOCATION:Broward MPO Office - Board Room (100 West Cypress Creek Road\, 8th
  Floor\, Suite 850\, Fort Lauderdale\, FL 33309-2112)
SUMMARY:SW 10th Street COAT Meeting
URL:https://www.browardmpo.org/calendar/event/139-sw-10th-street-coat-meeti
 ng
END:VEVENT
END:VCALENDAR
