BEGIN:VCALENDAR
VERSION:2.0
PRODID:-//https://www.browardmpo.org///NONSGML kigkonsult.se iCalcreator 2.10.15//
METHOD:PUBLISH
BEGIN:VEVENT
UID:20260422T052846UTC-9473HlnVec@https://www.browardmpo.org/
DTSTAMP:20260422T052846Z
DESCRIPTION:The Florida Department of Transportation (FDOT) is hosting an I
 ndustry Forum on Friday\, May 20\, 2016from 9:00 AM to 11:30 AM at the Bro
 ward Center for the Performing Arts\, Riverview Ballroom locatedat 201 SW 
 5th Avenue | Fort Lauderdale\, FL 33312. Registration/Check-In begins at 8
 :00 AM and theformal presentation begins at 9:00 AM. The project to be pre
 sented is the Wave Streetcar\, Fort Lauderdale\,Florida.\nClick here to do
 wnload the event flyer https://www.browardmpo.org/calendar/event/101-wave-
 streetcar-industry-forum
DTSTART:20160520T130000Z
DTEND:20160520T153000Z
LOCATION:Broward Center for the Performing Arts (201 SW 5th Ave\, Fort Laud
 erdale\, FL 33312\, USA)
SUMMARY:Wave Streetcar Industry Forum
URL:https://www.browardmpo.org/calendar/event/101-wave-streetcar-industry-f
 orum
END:VEVENT
BEGIN:VEVENT
UID:20260422T052846UTC-9474SUscul@https://www.browardmpo.org/
DTSTAMP:20260422T052846Z
DESCRIPTION:To view the agenda click on this link&nbsp\;Agenda&nbsp\;\nLoca
 l Discretionary Sales Surax.\n&nbsp\; https://www.browardmpo.org/calendar/
 event/133-broward-county-city-managers-meeting
DTSTART:20160519T160000Z
DTEND:20160519T180000Z
LOCATION:Robins Lodge 4005 S. Hiatus Road Town of Davie\, FL  33330 (4005 S
  Hiatus Rd\, Davie\, FL 33330\, USA)
SUMMARY:Broward County City Managers' Meeting
URL:https://www.browardmpo.org/calendar/event/133-broward-county-city-manag
 ers-meeting
END:VEVENT
END:VCALENDAR
