BEGIN:VCALENDAR
VERSION:2.0
PRODID:-//https://www.browardmpo.org///NONSGML kigkonsult.se iCalcreator 2.10.15//
METHOD:PUBLISH
BEGIN:VEVENT
UID:20260424T081701UTC-5274dXDAS5@https://www.browardmpo.org/
DTSTAMP:20260424T081701Z
DESCRIPTION:For more information\, please contact Lydia Waring 954-876-0049
  or&nbsp\;WaringL@browardMPO.org. https://www.browardmpo.org/calendar/even
 t/64-discussion-evaluation-and-ranking-rfp-no-16-01-enterprise-resource-pl
 anning-erp-system-and-implementation-services
DTSTART:20160503T180000Z
DTEND:20160503T210000Z
LOCATION: ()
SUMMARY:Discussion\, Evaluation and Ranking: RFP No 16-01\, Enterprise Reso
 urce Planning (ERP) System and Implementation Services
URL:https://www.browardmpo.org/calendar/event/64-discussion-evaluation-and-
 ranking-rfp-no-16-01-enterprise-resource-planning-erp-system-and-implement
 ation-services
END:VEVENT
BEGIN:VEVENT
UID:20260424T081701UTC-52759JfdVM@https://www.browardmpo.org/
DTSTAMP:20260424T081701Z
DESCRIPTION:Executive Committee Meeting.\nWill meet at 10:30 a.m. instead o
 f 9:30 a.m. (or immediately following the MPO Board Special Meeting) at th
 e MPO Headquarters\n*Please note that this Committee normally meets monthl
 y on the 1st Thursday @ 9:30am\, but has been rescheduled in order to hold
  an Special Meeting of the MPO Board.\nCheck calendar for meeting updates.
 \nTHE PUBLIC IS WELCOME. https://www.browardmpo.org/calendar/event/65-exec
 utive-committee-meeting
DTSTART:20160505T143000Z
DTEND:20160505T153000Z
LOCATION: ()
SUMMARY: Executive Committee Meeting
URL:https://www.browardmpo.org/calendar/event/65-executive-committee-meetin
 g
END:VEVENT
BEGIN:VEVENT
UID:20260424T081701UTC-52755ESbNR@https://www.browardmpo.org/
DTSTAMP:20260424T081701Z
DESCRIPTION:For more information\, please contact Lydia Waring 954-876-0049
  or&nbsp\;WaringL@browardMPO.org&nbsp\;\n&nbsp\; https://www.browardmpo.or
 g/calendar/event/80-cancelled-software-demonstrations-oral-presentations-r
 fp-no-16-01-enterprise-resource-planning-erp-system-and-implementation-ser
 vices
DTSTART:20160503T130000Z
DTEND:20160503T150000Z
LOCATION: ()
SUMMARY:Cancelled Software Demonstrations/Oral Presentations: RFP No 16-01\
 , Enterprise Resource Planning (ERP) System and Implementation Services
URL:https://www.browardmpo.org/calendar/event/80-cancelled-software-demonst
 rations-oral-presentations-rfp-no-16-01-enterprise-resource-planning-erp-s
 ystem-and-implementation-services
END:VEVENT
BEGIN:VEVENT
UID:20260424T081701UTC-5276tcWrwF@https://www.browardmpo.org/
DTSTAMP:20260424T081701Z
DESCRIPTION:For more information\, please contact Lydia Waring 954-876-0049
  or&nbsp\;WaringL@browardMPO.org&nbsp\;\n&nbsp\; https://www.browardmpo.or
 g/calendar/event/81-cancelled-software-demonstrations-oral-presentations-r
 fp-no-16-01-enterprise-resource-planning-erp-system-and-implementation-ser
 vices
DTSTART:20160504T130000Z
DTEND:20160504T150000Z
LOCATION: ()
SUMMARY:Cancelled Software Demonstrations/Oral Presentations: RFP No 16-01\
 , Enterprise Resource Planning (ERP) System and Implementation Services
URL:https://www.browardmpo.org/calendar/event/81-cancelled-software-demonst
 rations-oral-presentations-rfp-no-16-01-enterprise-resource-planning-erp-s
 ystem-and-implementation-services
END:VEVENT
BEGIN:VEVENT
UID:20260424T081701UTC-5276k245Ve@https://www.browardmpo.org/
DTSTAMP:20260424T081701Z
DESCRIPTION:This meeting is being held to discuss the Local Discretionary S
 urtax. Information is forthcoming regarding this meeting.&nbsp\;\nContinue
  to check this calendar and https://www.browardmpo.org/index.php/current-p
 rojects-studies/local-discretionary-sales-tax&nbsp\;for updates. https://w
 ww.browardmpo.org/calendar/event/104-mpo-board-special-meeting
DTSTART:20160505T133000Z
DTEND:20160505T143000Z
LOCATION:Broward MPO Office - Board Room (100 West Cypress Creek Road\, 8th
  Floor\, Suite 850\, Fort Lauderdale\, FL 33309-2112)
SUMMARY:MPO Board Special Meeting
URL:https://www.browardmpo.org/calendar/event/104-mpo-board-special-meeting
END:VEVENT
BEGIN:VEVENT
UID:20260424T081701UTC-5277vRitzI@https://www.browardmpo.org/
DTSTAMP:20260424T081701Z
DESCRIPTION:Please mark your calendars for May 5\, 2016 at 6:00 PM. Please 
 continue to check for updates at www.sw10thstreetvision.org. https://www.b
 rowardmpo.org/calendar/event/107-sw-10th-street-coat-meeting
DTSTART:20160505T220000Z
DTEND:20160506T000000Z
LOCATION:Broward MPO Office - Board Room (100 West Cypress Creek Road\, 8th
  Floor\, Suite 850\, Fort Lauderdale\, FL 33309-2112)
SUMMARY:SW 10th Street COAT Meeting
URL:https://www.browardmpo.org/calendar/event/107-sw-10th-street-coat-meeti
 ng
END:VEVENT
BEGIN:VEVENT
UID:20260424T081701UTC-52778xAot3@https://www.browardmpo.org/
DTSTAMP:20260424T081701Z
DESCRIPTION:Discussion topics will include:• Transportation / Infrastructur
 e• Unified education plan• Responsibilities• Logistics\nWhen: 2:00 PMWhere
 : City of Sunrise: Grand Ballroom 10610 West Oakland Park Boulevard Sunris
 e\, FL 33351Who: City Managers and/or their designated representative(s)Wh
 at: Surtax Options https://www.browardmpo.org/calendar/event/131-broward-c
 ountys-city-managers-meeting
DTSTART:20160502T180000Z
DTEND:20160502T210000Z
LOCATION:City of Sunrise: Grand Ballroom  (10610 W Oakland Park Blvd\, Sunr
 ise\, FL 33351\, USA)
SUMMARY:Broward Countys City Managers' Meeting
URL:https://www.browardmpo.org/calendar/event/131-broward-countys-city-mana
 gers-meeting
END:VEVENT
END:VCALENDAR
