BEGIN:VCALENDAR
VERSION:2.0
PRODID:-//https://www.browardmpo.org///NONSGML kigkonsult.se iCalcreator 2.10.15//
METHOD:PUBLISH
BEGIN:VEVENT
UID:20260422T103458UTC-8385GSmHIR@https://www.browardmpo.org/
DTSTAMP:20260422T103458Z
DESCRIPTION: https://www.browardmpo.org/calendar/event/6-technical-advisory
 -committee-tac
DTSTART:20160427T183000Z
DTEND:20160427T203000Z
LOCATION:Broward MPO Office - Board Room (100 West Cypress Creek Road\, 8th
  Floor\, Suite 850\, Fort Lauderdale\, FL 33309-2112)
SUMMARY:Technical Advisory Committee (TAC)
URL:https://www.browardmpo.org/calendar/event/6-technical-advisory-committe
 e-tac
END:VEVENT
BEGIN:VEVENT
UID:20260422T103458UTC-8385Z4F7uv@https://www.browardmpo.org/
DTSTAMP:20260422T103458Z
DESCRIPTION: https://www.browardmpo.org/calendar/event/43-citizens-advisory
 -committee-cac
DTSTART:20160427T220000Z
DTEND:20160428T000000Z
LOCATION:Broward MPO Office - Board Room ( 100 West Cypress Creek Road\, 6t
 h Floor\, Suite 650\, Fort Lauderdale\, FL 33309-2112)
SUMMARY:Citizens' Advisory Committee (CAC)
URL:https://www.browardmpo.org/calendar/event/43-citizens-advisory-committe
 e-cac
END:VEVENT
BEGIN:VEVENT
UID:20260422T103458UTC-8386uoBA3j@https://www.browardmpo.org/
DTSTAMP:20260422T103458Z
DESCRIPTION:PUBLIC MEETING FOR PROPOSED AMENDMENTS TO 2040 LONG RANGE TRANS
 PORTATION PLANDuring the Citizens' Advisory Committee at 6:00 p.m.\nFor mo
 re information and to view the proposed amendments go to www.Commitment204
 0.org\nPlease submit your comments to Paul Flavien at flavienp@browardmpo.
 org by May\, 12 when the MPO Board will adopt the revised LRTP. https://ww
 w.browardmpo.org/calendar/event/76-public-meeting-for-proposed-amendments-
 to-2040-long-range-transportation-plan-cac
DTSTART:20160427T220000Z
DTEND:20160428T000000Z
LOCATION:Broward MPO Office - Board Room (100 West Cypress Creek Road\, 8th
  Floor\, Suite 850\, Fort Lauderdale\, FL 33309-2112)
SUMMARY:Public Meeting for Proposed Amendments to 2040 Long Range Transport
 ation Plan (CAC)
URL:https://www.browardmpo.org/calendar/event/76-public-meeting-for-propose
 d-amendments-to-2040-long-range-transportation-plan-cac
END:VEVENT
BEGIN:VEVENT
UID:20260422T103458UTC-8386g2rdVH@https://www.browardmpo.org/
DTSTAMP:20260422T103458Z
DESCRIPTION:PUBLIC MEETING FOR PROPOSED AMENDMENTS TO 2040 LONG RANGE TRANS
 PORTATION PLANDuring the Technical Advisory Committee at 2:30 p.m.\nFor mo
 re information and to view the proposed amendments go to www.Commitment204
 0.org\nPlease submit your comments to Paul Flavien at flavienp@browardmpo.
 org by May\, 12 when the MPO Board will adopt the revised LRTP. https://ww
 w.browardmpo.org/calendar/event/77-public-meeting-for-proposed-amendments-
 to-2040-long-range-transportation-plan-tac
DTSTART:20160427T183000Z
DTEND:20160427T200000Z
LOCATION:Broward MPO Office - Board Room (100 West Cypress Creek Road\, 8th
  Floor\, Suite 850\, Fort Lauderdale\, FL 33309-2112)
SUMMARY:Public Meeting for Proposed Amendments to 2040 Long Range Transport
 ation Plan (TAC)
URL:https://www.browardmpo.org/calendar/event/77-public-meeting-for-propose
 d-amendments-to-2040-long-range-transportation-plan-tac
END:VEVENT
BEGIN:VEVENT
UID:20260422T103458UTC-8387KwZncH@https://www.browardmpo.org/
DTSTAMP:20260422T103458Z
DESCRIPTION:Workshop: Traffic Management Capability Maturity FrameworkTraff
 ic Management Capability Maturity Framework8:30 AM – 4:00 PMMPO Board Room
 \n{module For More Information - Buffy Sanders II} https://www.browardmpo.
 org/calendar/event/79-workshop-traffic-management-capability-maturity-fram
 ework
DTSTART:20160426T123000Z
DTEND:20160426T200000Z
LOCATION:Broward MPO Office - Board Room (100 West Cypress Creek Road\, 8th
  Floor\, Suite 850\, Fort Lauderdale\, FL 33309-2112)
SUMMARY:Workshop: Traffic Management Capability Maturity Framework
URL:https://www.browardmpo.org/calendar/event/79-workshop-traffic-managemen
 t-capability-maturity-framework
END:VEVENT
BEGIN:VEVENT
UID:20260422T103458UTC-8387FNbZcf@https://www.browardmpo.org/
DTSTAMP:20260422T103458Z
DESCRIPTION:NEGOTIATIONS MEETING: RFQ No 15-05\, COMPLETE STREETS INITIATIV
 EMPO Board Room at 9:30AM\nFor more information please contact Lydia Warin
 g 954-876-0049 or WaringL@browardMPO.org https://www.browardmpo.org/calend
 ar/event/118-negotiations-meeting-rfq-no-15-05-complete-streets-initiative
DTSTART:20160426T133000Z
DTEND:20160426T150000Z
LOCATION:Broward MPO Office - Board Room (100 West Cypress Creek Road\, 8th
  Floor\, Suite 850\, Fort Lauderdale\, FL 33309-2112)
SUMMARY:Negotiations Meeting: RFQ No 15-05\, Complete Streets Initiative 
URL:https://www.browardmpo.org/calendar/event/118-negotiations-meeting-rfq-
 no-15-05-complete-streets-initiative
END:VEVENT
END:VCALENDAR
