BEGIN:VCALENDAR
VERSION:2.0
PRODID:-//https://www.browardmpo.org///NONSGML kigkonsult.se iCalcreator 2.10.15//
METHOD:PUBLISH
BEGIN:VEVENT
UID:20260422T135646UTC-0131aVpWNG@https://www.browardmpo.org/
DTSTAMP:20260422T135646Z
DESCRIPTION: https://www.browardmpo.org/calendar/event/18-mpo-board-meeting
DTSTART:20160414T133000Z
DTEND:20160414T153000Z
LOCATION:Broward MPO Office - Board Room ( 100 West Cypress Creek Road\, 6t
 h Floor\, Suite 650\, Fort Lauderdale\, FL 33309-2112)
SUMMARY:MPO Board Meeting
URL:https://www.browardmpo.org/calendar/event/18-mpo-board-meeting
END:VEVENT
BEGIN:VEVENT
UID:20260422T135646UTC-0132zsiMkw@https://www.browardmpo.org/
DTSTAMP:20260422T135646Z
DESCRIPTION:For more information\, please contact Lydia Waring 954-876-0049
  or&nbsp\;WaringL@browardMPO.org&nbsp\; https://www.browardmpo.org/calenda
 r/event/60-software-demonstrations-oral-presentations-rfp-no-16-01-enterpr
 ise-resource-planning-erp-system-and-implementation-services
DTSTART:20160413T130000Z
DTEND:20160413T150000Z
LOCATION: ()
SUMMARY:Software Demonstrations/Oral Presentations: RFP No 16-01\, Enterpri
 se Resource Planning (ERP) System and Implementation Services
URL:https://www.browardmpo.org/calendar/event/60-software-demonstrations-or
 al-presentations-rfp-no-16-01-enterprise-resource-planning-erp-system-and-
 implementation-services
END:VEVENT
BEGIN:VEVENT
UID:20260422T135646UTC-0133DvW1xN@https://www.browardmpo.org/
DTSTAMP:20260422T135646Z
DESCRIPTION:For more information\, please contact Lydia Waring 954-876-0049
  or&nbsp\;WaringL@browardMPO.org. https://www.browardmpo.org/calendar/even
 t/61-software-demonstrations-oral-presentations-rfp-no-16-01-enterprise-re
 source-planning-erp-system-and-implementation-services
DTSTART:20160412T130000Z
DTEND:20160412T150000Z
LOCATION: ()
SUMMARY:Software Demonstrations/Oral Presentations: RFP No 16-01\, Enterpri
 se Resource Planning (ERP) System and Implementation Services
URL:https://www.browardmpo.org/calendar/event/61-software-demonstrations-or
 al-presentations-rfp-no-16-01-enterprise-resource-planning-erp-system-and-
 implementation-services
END:VEVENT
BEGIN:VEVENT
UID:20260422T135646UTC-0133vdO3ZC@https://www.browardmpo.org/
DTSTAMP:20260422T135646Z
DESCRIPTION:Regular Business Meeting for the Local Coordinating Board (LCB)
  for Transportation Disadvantaged Services\nMeeting time from 2:00pm&nbsp\
 ;to 4:00pm https://www.browardmpo.org/calendar/event/63-local-coordinating
 -board-lcb-for-transportation-disadvantaged-meeting
DTSTART:20160411T180000Z
DTEND:20160411T200000Z
LOCATION: ()
SUMMARY: Local Coordinating Board (LCB) for Transportation Disadvantaged Me
 eting
URL:https://www.browardmpo.org/calendar/event/63-local-coordinating-board-l
 cb-for-transportation-disadvantaged-meeting
END:VEVENT
BEGIN:VEVENT
UID:20260422T135646UTC-0134XBjZGm@https://www.browardmpo.org/
DTSTAMP:20260422T135646Z
DESCRIPTION:MPO Strategic Business Plan – Education/Development\nTHE COMMIT
 TEE MEETINGS WILL IMMEDIATELY FOLLOW THE MPO MONTHLY MEETING.\nThe Broward
  MPO's Strategic Framework and Business Plan\nOn January 8\, 2015\, the Br
 oward MPO Board held an all-day retreat to set the direction of the MPO fo
 r the next two to five years. More than 20 members of the Board participat
 ed and discussed current trends\, future needs and strategic directions. T
 he retreat resulted in a consensus on seven strategic themes that would se
 rve as the framework for a Strategic Business Plan.\nCOMMITTEES:\nLeadersh
 ip/Partnership\nEducation/Development\nRevenue/Funding\nMultimodal Improve
 ments\nEconomic Development https://www.browardmpo.org/calendar/event/87-m
 po-strategic-business-plan---education-development
DTSTART:20160414T160000Z
DTEND:20160414T173000Z
LOCATION: ()
SUMMARY:MPO Strategic Business Plan – Education/Development
URL:https://www.browardmpo.org/calendar/event/87-mpo-strategic-business-pla
 n---education-development
END:VEVENT
BEGIN:VEVENT
UID:20260422T135646UTC-0134z38SlI@https://www.browardmpo.org/
DTSTAMP:20260422T135646Z
DESCRIPTION:Broward County Commission Meeting- Transportation Surtax Agenda
  Item #33The Broward County Commission will meet to discuss the Transporta
 tion Surtax. Two or more MPO Board Members may attend. The item is time ce
 rtain at 3:00 PM https://www.browardmpo.org/calendar/event/125-broward-cou
 nty-commission-meeting-transportation-surtax-agenda-item-33
DTSTART:20160412T190000Z
DTEND:20160412T210000Z
LOCATION:Broward County Commission Chambers (115 S Andrews Ave #421\, Fort 
 Lauderdale\, FL 33301\, USA)
SUMMARY:Broward County Commission Meeting- Transportation Surtax Agenda Ite
 m #33
URL:https://www.browardmpo.org/calendar/event/125-broward-county-commission
 -meeting-transportation-surtax-agenda-item-33
END:VEVENT
END:VCALENDAR
