BEGIN:VCALENDAR
VERSION:2.0
PRODID:-//https://www.browardmpo.org///NONSGML kigkonsult.se iCalcreator 2.10.15//
METHOD:PUBLISH
BEGIN:VEVENT
UID:20260422T191443UTC-1012L5pp2x@https://www.browardmpo.org/
DTSTAMP:20260422T191443Z
DESCRIPTION: https://www.browardmpo.org/calendar/event/5-technical-advisory
 -committee-tac
DTSTART:20160323T183000Z
DTEND:20160323T203000Z
LOCATION:Broward MPO Office - Board Room ( 100 West Cypress Creek Road\, 6t
 h Floor\, Suite 650\, Fort Lauderdale\, FL 33309-2112)
SUMMARY:Technical Advisory Committee (TAC)
URL:https://www.browardmpo.org/calendar/event/5-technical-advisory-committe
 e-tac
END:VEVENT
BEGIN:VEVENT
UID:20260422T191443UTC-1013mScFrG@https://www.browardmpo.org/
DTSTAMP:20260422T191443Z
DESCRIPTION:6:00PM MPO Board Room https://www.browardmpo.org/calendar/event
 /53-citizens-advisory-committee-cac
DTSTART:20160323T183000Z
DTEND:20160323T203000Z
LOCATION: ()
SUMMARY:Citizen’s Advisory Committee (CAC)
URL:https://www.browardmpo.org/calendar/event/53-citizens-advisory-committe
 e-cac
END:VEVENT
BEGIN:VEVENT
UID:20260422T191443UTC-10144JP5v2@https://www.browardmpo.org/
DTSTAMP:20260422T191443Z
DESCRIPTION:We invite you to register for a free parking workshop focusing 
 on Contemporary Tools and Approaches to Parking Pricing and Management her
 e at the MPO from 8AM to 4PM.\nFor more information and to register see th
 is link&nbsp\;https://www.eventbrite.com/e/contemporary-tools-and-approach
 es-to-parking-pricing-and-managementflorida-tickets-22066519554 https://ww
 w.browardmpo.org/calendar/event/57-fhwa-parking-workshop
DTSTART:20160324T120000Z
DTEND:20160324T200000Z
LOCATION: ()
SUMMARY: FHWA Parking Workshop
URL:https://www.browardmpo.org/calendar/event/57-fhwa-parking-workshop
END:VEVENT
BEGIN:VEVENT
UID:20260422T191443UTC-1014Z9j35B@https://www.browardmpo.org/
DTSTAMP:20260422T191443Z
DESCRIPTION:SHORTLIST BY THE EVALUATION COMMITTEE: RFP No 16-01\, ENTERPRIS
 E RESOURCE PLANNING (ERP) SYSTEM AND IMPLEMENTATION SERVICESDETERMINATION 
 OF QUALIFICATION/OFFERS AND SHORTLIST BY THE EVALUATION COMMITTEE: RFP No 
 16-01\, ENTERPRISE RESOURCE PLANNING (ERP) SYSTEM AND IMPLEMENTATION SERVI
 CES\nMPO Board Room\, on or about 2:00 PM\nAny questions\, please contact 
 Lydia Waring 954-876-0049 WaringL@browardMPO.org https://www.browardmpo.or
 g/calendar/event/121-shortlist-by-the-evaluation-committee-rfp-no-16-01-en
 terprise-resource-planning-erp-system-and-implementation-services
DTSTART:20160322T180000Z
DTEND:20160322T210000Z
LOCATION:Broward MPO Office - Board Room (100 West Cypress Creek Road\, 8th
  Floor\, Suite 850\, Fort Lauderdale\, FL 33309-2112)
SUMMARY:Shortlist by the Evaluation Committee: RFP No 16-01\, Enterprise Re
 source Planning (ERP) System and Implementation Services
URL:https://www.browardmpo.org/calendar/event/121-shortlist-by-the-evaluati
 on-committee-rfp-no-16-01-enterprise-resource-planning-erp-system-and-impl
 ementation-services
END:VEVENT
BEGIN:VEVENT
UID:20260422T191443UTC-1015llF4tz@https://www.browardmpo.org/
DTSTAMP:20260422T191443Z
DESCRIPTION:BOARD MEMBERS MEETPUBLIC NOTICE\nMARCH 23\, 2016 @ 11:OOAM\nMPO
  Board Members: Chair\, Commissioner Richard Blattner and Mayor Joy Cooper
  and MPO Executive Director will meet with the Sun-Sentinel Editorial Boar
 d at the Sun Sentinel Office 500 E. Broward Blvd.\, Suite 900 Fort Lauderd
 ale\, FL\, 33394 RE: Local Option Surtax. https://www.browardmpo.org/calen
 dar/event/122-board-members-meet
DTSTART:20160323T150000Z
DTEND:20160323T160000Z
LOCATION:Sun Sentinel Office (500 E Broward Boulevard\, Suite 900 Fort Laud
 erdale\, FL 33394)
SUMMARY:Board Members Meet
URL:https://www.browardmpo.org/calendar/event/122-board-members-meet
END:VEVENT
END:VCALENDAR
