BEGIN:VCALENDAR
VERSION:2.0
PRODID:-//https://www.browardmpo.org///NONSGML kigkonsult.se iCalcreator 2.10.15//
METHOD:PUBLISH
BEGIN:VEVENT
UID:20260422T205742UTC-8398fVEzMR@https://www.browardmpo.org/
DTSTAMP:20260422T205742Z
DESCRIPTION:2nd Monday @ 2:00PM\nMPO Headquarters https://www.browardmpo.or
 g/calendar/event/41-complete-streets-advisory-committee-csac-meeting
DTSTART:20160314T180000Z
DTEND:20160314T200000Z
LOCATION:Broward MPO Office - Board Room (100 West Cypress Creek Road\, 8th
  Floor\, Suite 850\, Fort Lauderdale\, FL 33309-2112)
SUMMARY:Complete Streets Advisory Committee (CSAC) Meeting
URL:https://www.browardmpo.org/calendar/event/41-complete-streets-advisory-
 committee-csac-meeting
END:VEVENT
BEGIN:VEVENT
UID:20260422T205742UTC-8399D4dunC@https://www.browardmpo.org/
DTSTAMP:20260422T205742Z
DESCRIPTION: https://www.browardmpo.org/calendar/event/56-project-advisory-
 committee-pac-meeting-5--sr-7-study
DTSTART:20160315T140000Z
DTEND:20160315T160000Z
LOCATION: ()
SUMMARY: Project Advisory Committee (PAC) Meeting #5– SR 7 Study
URL:https://www.browardmpo.org/calendar/event/56-project-advisory-committee
 -pac-meeting-5--sr-7-study
END:VEVENT
END:VCALENDAR
