BEGIN:VCALENDAR
VERSION:2.0
PRODID:-//https://www.browardmpo.org///NONSGML kigkonsult.se iCalcreator 2.10.15//
METHOD:PUBLISH
BEGIN:VEVENT
UID:20260419T210220UTC-5855SkdW4B@https://www.browardmpo.org/
DTSTAMP:20260419T210220Z
DESCRIPTION:Join us for the State of the Region Annual Awards event on Frid
 ay\, November 19 from 11:30 a.m.. - 1:30 p.m. at the Signature Grand! Seat
  and table reservations as well as tickets are on sale now!\n\n{module For
  More Information - Carol Henderson} https://www.browardmpo.org/calendar/e
 vent/1175-miles-of-success-state-of-the-region-annual-awards
DTSTART:20211119T163000Z
DTEND:20211119T183000Z
LOCATION:6900 W State Rd 84\, Davie\, FL 33317 (6900 W State Rd 84\, Davie\
 , FL 33317)
SUMMARY:Miles of Success: State of the Region Annual Awards
URL:https://www.browardmpo.org/calendar/event/1175-miles-of-success-state-o
 f-the-region-annual-awards
END:VEVENT
END:VCALENDAR
