BEGIN:VCALENDAR
VERSION:2.0
PRODID:-//https://www.browardmpo.org///NONSGML kigkonsult.se iCalcreator 2.10.15//
METHOD:PUBLISH
BEGIN:VEVENT
UID:20260419T224603UTC-0444ihhrDz@https://www.browardmpo.org/
DTSTAMP:20260419T224603Z
DESCRIPTION: https://www.browardmpo.org/calendar/event/1246-resiliency-atta
 inable-housing-committee
DTSTART:20211118T190000Z
DTEND:20211118T210000Z
LOCATION:Broward MPO Office - Board Room ( 100 West Cypress Creek Road\, 6t
 h Floor\, Suite 650\, Fort Lauderdale\, FL 33309-2112)
SUMMARY:Resiliency & Attainable Housing Committee
URL:https://www.browardmpo.org/calendar/event/1246-resiliency-attainable-ho
 using-committee
END:VEVENT
END:VCALENDAR
