BEGIN:VCALENDAR
VERSION:2.0
PRODID:-//https://www.browardmpo.org///NONSGML kigkonsult.se iCalcreator 2.10.15//
METHOD:PUBLISH
BEGIN:VEVENT
UID:20260420T022155UTC-9309k8FTrI@https://www.browardmpo.org/
DTSTAMP:20260420T022155Z
DESCRIPTION:{module For More Information - Lydia Waring} https://www.browar
 dmpo.org/calendar/event/1201-trc-evaluation-and-recommendation-meeting-for
 -gpc-25-complete-streets-initiative-education-walking-audits
DTSTART:20211116T160000Z
DTEND:20211116T170000Z
LOCATION:Broward MPO Office - Board Room ( 100 West Cypress Creek Road\, 6t
 h Floor\, Suite 650\, Fort Lauderdale\, FL 33309-2112)
SUMMARY:TRC EVALUATION and RECOMMENDATION MEETING for GPC #25\, Complete St
 reets Initiative\, Education/Walking Audits
URL:https://www.browardmpo.org/calendar/event/1201-trc-evaluation-and-recom
 mendation-meeting-for-gpc-25-complete-streets-initiative-education-walking
 -audits
END:VEVENT
END:VCALENDAR
