BEGIN:VCALENDAR
VERSION:2.0
PRODID:-//https://www.browardmpo.org///NONSGML kigkonsult.se iCalcreator 2.10.15//
METHOD:PUBLISH
BEGIN:VEVENT
UID:20260421T162207UTC-7761BZGEP6@https://www.browardmpo.org/
DTSTAMP:20260421T162207Z
DESCRIPTION: https://www.browardmpo.org/calendar/event/388-mpo-board-meetin
 g
DTSTART:20191114T143000Z
DTEND:20191114T163000Z
LOCATION:Broward MPO Office - Board Room ( 100 West Cypress Creek Road\, 6t
 h Floor\, Suite 650\, Fort Lauderdale\, FL 33309-2112)
SUMMARY:MPO Board Meeting
URL:https://www.browardmpo.org/calendar/event/388-mpo-board-meeting
END:VEVENT
END:VCALENDAR
