BEGIN:VCALENDAR
VERSION:2.0
PRODID:-//https://www.browardmpo.org///NONSGML kigkonsult.se iCalcreator 2.10.15//
METHOD:PUBLISH
BEGIN:VEVENT
UID:20260421T180933UTC-77456iUfUV@https://www.browardmpo.org/
DTSTAMP:20260421T180933Z
DESCRIPTION:\nVisit&nbsp\;https://www.browardmpo.org/index.php/mtp-get-invo
 lved&nbsp\;for more information on this event.\n&nbsp\;\n{module For More 
 Information - Erica Lychak} https://www.browardmpo.org/calendar/event/966-
 etownhall
DTSTART:20191114T000000Z
DTEND:20191114T020000Z
LOCATION:Broward MPO Office (100 West Cypress Creek Road)
SUMMARY:eTownHall 
URL:https://www.browardmpo.org/calendar/event/966-etownhall
END:VEVENT
BEGIN:VEVENT
UID:20260421T180933UTC-7746h9NxIo@https://www.browardmpo.org/
DTSTAMP:20260421T180933Z
DESCRIPTION: https://www.browardmpo.org/calendar/event/974-holland-knight-o
 ffice-hours
DTSTART:20191113T193000Z
DTEND:20191113T223000Z
LOCATION:Broward MPO Office (100 West Cypress Creek Road)
SUMMARY:Holland & Knight Office Hours
URL:https://www.browardmpo.org/calendar/event/974-holland-knight-office-hou
 rs
END:VEVENT
END:VCALENDAR
