BEGIN:VCALENDAR
VERSION:2.0
PRODID:-//https://www.browardmpo.org///NONSGML kigkonsult.se iCalcreator 2.10.15//
METHOD:PUBLISH
BEGIN:VEVENT
UID:20260421T195009UTC-73801tdGnR@https://www.browardmpo.org/
DTSTAMP:20260421T195009Z
DESCRIPTION: https://www.browardmpo.org/calendar/event/976-trc-ranking-eval
 uation-of-proposals-and-recommendation-two-10-complete-streets-initiative-
 community-engagement
DTSTART:20191112T200000Z
DTEND:20191112T210000Z
LOCATION:Broward MPO Office- Admin Conference Room (100 West Cypress Creek 
 Road\, Suite 650)
SUMMARY:TRC Ranking/ Evaluation of proposals and recommendation (TWO 10\, C
 omplete Streets Initiative Community Engagement)
URL:https://www.browardmpo.org/calendar/event/976-trc-ranking-evaluation-of
 -proposals-and-recommendation-two-10-complete-streets-initiative-community
 -engagement
END:VEVENT
END:VCALENDAR
