BEGIN:VCALENDAR
VERSION:2.0
PRODID:-//https://www.browardmpo.org///NONSGML kigkonsult.se iCalcreator 2.10.15//
METHOD:PUBLISH
BEGIN:VEVENT
UID:20260421T214413UTC-7658HMPn0v@https://www.browardmpo.org/
DTSTAMP:20260421T214413Z
DESCRIPTION:Office closed in honor of Veterans Day&nbsp\; https://www.browa
 rdmpo.org/calendar/event/968-office-closed-veterans-day
DTSTART;VALUE=DATE:20191111
LOCATION:Broward MPO Office - Board Room (100 West Cypress Creek Road\, 8th
  Floor\, Suite 850\, Fort Lauderdale\, FL 33309-2112)
SUMMARY:Office Closed - Veterans Day
URL:https://www.browardmpo.org/calendar/event/968-office-closed-veterans-da
 y
END:VEVENT
END:VCALENDAR
