BEGIN:VCALENDAR
VERSION:2.0
PRODID:-//https://www.browardmpo.org///NONSGML kigkonsult.se iCalcreator 2.10.15//
METHOD:PUBLISH
BEGIN:VEVENT
UID:20260422T100040UTC-72454Aiggr@https://www.browardmpo.org/
DTSTAMP:20260422T100040Z
DESCRIPTION: https://www.browardmpo.org/calendar/event/860-complete-streets
 -advisory-committee-csac
DTSTART:20191104T190000Z
DTEND:20191104T210000Z
LOCATION:Broward MPO Office - Board Room ( 100 West Cypress Creek Road\, 6t
 h Floor\, Suite 650\, Fort Lauderdale\, FL 33309-2112)
SUMMARY:Complete Streets Advisory Committee (CSAC)
URL:https://www.browardmpo.org/calendar/event/860-complete-streets-advisory
 -committee-csac
END:VEVENT
END:VCALENDAR
