BEGIN:VCALENDAR
VERSION:2.0
PRODID:-//https://www.browardmpo.org///NONSGML kigkonsult.se iCalcreator 2.10.15//
METHOD:PUBLISH
BEGIN:VEVENT
UID:20260423T061436UTC-7891R0TEuI@https://www.browardmpo.org/
DTSTAMP:20260423T061436Z
DESCRIPTION: https://www.browardmpo.org/calendar/event/538-citizens-advisor
 y-committee-cac
DTSTART:20191023T220000Z
DTEND:20191024T000000Z
LOCATION:Broward MPO Office - Board Room ( 100 West Cypress Creek Road\, 6t
 h Floor\, Suite 650\, Fort Lauderdale\, FL 33309-2112)
SUMMARY:Citizens' Advisory Committee (CAC)
URL:https://www.browardmpo.org/calendar/event/538-citizens-advisory-committ
 ee-cac
END:VEVENT
BEGIN:VEVENT
UID:20260423T061436UTC-7891HlMskJ@https://www.browardmpo.org/
DTSTAMP:20260423T061436Z
DESCRIPTION: https://www.browardmpo.org/calendar/event/576-technical-adviso
 ry-committee-tac
DTSTART:20191023T183000Z
DTEND:20191023T203000Z
LOCATION:Broward MPO Office - Board Room ( 100 West Cypress Creek Road\, 6t
 h Floor\, Suite 650\, Fort Lauderdale\, FL 33309-2112)
SUMMARY:Technical Advisory Committee (TAC)
URL:https://www.browardmpo.org/calendar/event/576-technical-advisory-commit
 tee-tac
END:VEVENT
BEGIN:VEVENT
UID:20260423T061436UTC-7892i2WgLI@https://www.browardmpo.org/
DTSTAMP:20260423T061436Z
DESCRIPTION: https://www.browardmpo.org/calendar/event/948-surtax-municipal
 -projects-workshop
DTSTART:20191023T130000Z
DTEND:20191023T143000Z
LOCATION:Broward MPO Office - Board Room ( 100 West Cypress Creek Road\, 6t
 h Floor\, Suite 650\, Fort Lauderdale\, FL 33309-2112)
SUMMARY:Surtax Municipal Projects Workshop
URL:https://www.browardmpo.org/calendar/event/948-surtax-municipal-projects
 -workshop
END:VEVENT
END:VCALENDAR
