BEGIN:VCALENDAR
VERSION:2.0
PRODID:-//https://www.browardmpo.org///NONSGML kigkonsult.se iCalcreator 2.10.15//
METHOD:PUBLISH
BEGIN:VEVENT
UID:20260423T182030UTC-0408JfRVSZ@https://www.browardmpo.org/
DTSTAMP:20260423T182030Z
DESCRIPTION: https://www.browardmpo.org/calendar/event/918-complete-streets
 -workshop-fhwa-bikeway-selection-guide
DTSTART:20191016T123000Z
DTEND:20191016T203000Z
LOCATION:Broward MPO Office - Board Room ( 100 West Cypress Creek Road\, 6t
 h Floor\, Suite 650\, Fort Lauderdale\, FL 33309-2112)
SUMMARY:Complete Streets Workshop_FHWA Bikeway Selection Guide
URL:https://www.browardmpo.org/calendar/event/918-complete-streets-workshop
 -fhwa-bikeway-selection-guide
END:VEVENT
END:VCALENDAR
