BEGIN:VCALENDAR
VERSION:2.0
PRODID:-//https://www.browardmpo.org///NONSGML kigkonsult.se iCalcreator 2.10.15//
METHOD:PUBLISH
BEGIN:VEVENT
UID:20260421T210807UTC-84268MKdFt@https://www.browardmpo.org/
DTSTAMP:20260421T210807Z
DESCRIPTION:Register in advance for this webinar:https://us02web.zoom.us/we
 binar/register/2916947196799/WN_0fSfNQa5RVirAEB8REPa6w\n&nbsp\;\nAfter reg
 istering\, you will receive a confirmation email containing information ab
 out joining the webinar. https://www.browardmpo.org/calendar/event/1564-ca
 nceled-citizens-advisory-committee-cac
DTSTART:20240925T220000Z
DTEND:20240926T000000Z
LOCATION:Broward MPO Office - Board Room ( 100 West Cypress Creek Road\, 6t
 h Floor\, Suite 650\, Fort Lauderdale\, FL 33309-2112)
SUMMARY:CANCELED - Citizens' Advisory Committee (CAC)
URL:https://www.browardmpo.org/calendar/event/1564-canceled-citizens-adviso
 ry-committee-cac
END:VEVENT
BEGIN:VEVENT
UID:20260421T210807UTC-8427HrPLhT@https://www.browardmpo.org/
DTSTAMP:20260421T210807Z
DESCRIPTION:Register in advance for this webinar:https://us02web.zoom.us/we
 binar/register/2416947195265/WN_rV-KU_ReRoC0xzVoO7oKiw\n&nbsp\;\nAfter reg
 istering\, you will receive a confirmation email containing information ab
 out joining the webinar. https://www.browardmpo.org/calendar/event/1573-ca
 nceled-technical-advisory-committee-tac
DTSTART:20240925T183000Z
DTEND:20240925T203000Z
LOCATION:Broward MPO Office - Board Room ( 100 West Cypress Creek Road\, 6t
 h Floor\, Suite 650\, Fort Lauderdale\, FL 33309-2112)
SUMMARY:CANCELED - Technical Advisory Committee (TAC)
URL:https://www.browardmpo.org/calendar/event/1573-canceled-technical-advis
 ory-committee-tac
END:VEVENT
BEGIN:VEVENT
UID:20260421T210807UTC-84279gzV4O@https://www.browardmpo.org/
DTSTAMP:20260421T210807Z
DESCRIPTION: https://www.browardmpo.org/calendar/event/1751-bsap-nw-31-aven
 ue-nw-19-street-initial-public-meeting
DTSTART:20240925T220000Z
DTEND:20240925T233000Z
LOCATION:4300 NW 36th Street\, Lauderdale Lakes\, FL 33319 ()
SUMMARY:BSAP NW 31 Avenue & NW 19 Street: Initial Public Meeting
URL:https://www.browardmpo.org/calendar/event/1751-bsap-nw-31-avenue-nw-19-
 street-initial-public-meeting
END:VEVENT
END:VCALENDAR
