BEGIN:VCALENDAR
VERSION:2.0
PRODID:-//https://www.browardmpo.org///NONSGML kigkonsult.se iCalcreator 2.10.15//
METHOD:PUBLISH
BEGIN:VEVENT
UID:20260421T192220UTC-028866P82l@https://www.browardmpo.org/
DTSTAMP:20260421T192220Z
DESCRIPTION: https://www.browardmpo.org/calendar/event/1752-bsap-west-browa
 rd-boulevard-initial-public-meeting
DTSTART:20240924T220000Z
DTEND:20240924T233000Z
LOCATION:8601 West Broward Boulevard\, Plantation\, FL 33324 ()
SUMMARY:BSAP West Broward Boulevard: Initial Public Meeting
URL:https://www.browardmpo.org/calendar/event/1752-bsap-west-broward-boulev
 ard-initial-public-meeting
END:VEVENT
END:VCALENDAR
