BEGIN:VCALENDAR
VERSION:2.0
PRODID:-//https://www.browardmpo.org///NONSGML kigkonsult.se iCalcreator 2.10.15//
METHOD:PUBLISH
BEGIN:VEVENT
UID:20260420T223835UTC-6137Au5VuL@https://www.browardmpo.org/
DTSTAMP:20260420T223835Z
DESCRIPTION: https://www.browardmpo.org/calendar/event/1594-cancelled-mpo-e
 xecutive-committee
DTSTART:20240912T130000Z
DTEND:20240912T133000Z
LOCATION:Broward MPO Office - Board Room ( 100 West Cypress Creek Road\, 6t
 h Floor\, Suite 650\, Fort Lauderdale\, FL 33309-2112)
SUMMARY:CANCELLED - MPO Executive Committee
URL:https://www.browardmpo.org/calendar/event/1594-cancelled-mpo-executive-
 committee
END:VEVENT
BEGIN:VEVENT
UID:20260420T223835UTC-61380vOnsj@https://www.browardmpo.org/
DTSTAMP:20260420T223835Z
DESCRIPTION:Please note that this meeting will be in person only.\n&nbsp\;
 \n https://www.browardmpo.org/calendar/event/1603-mpo-board-meeting
DTSTART:20240912T120000Z
DTEND:20240912T123000Z
LOCATION:Museum of Discovery and Science (401 Southwest 2nd Street\, Fort L
 auderdale\, FL 33312)
SUMMARY:MPO Board Meeting
URL:https://www.browardmpo.org/calendar/event/1603-mpo-board-meeting
END:VEVENT
BEGIN:VEVENT
UID:20260420T223835UTC-6139HrNOtm@https://www.browardmpo.org/
DTSTAMP:20260420T223835Z
DESCRIPTION:To register\, please CLICK HERE\n\nTo register\, please CLICK H
 ERE https://www.browardmpo.org/calendar/event/1715-route-to-2050-metropoli
 tan-transportation-plan-summit-event
DTSTART:20240912T120000Z
DTEND:20240912T153000Z
LOCATION:Museum of Discovery and Science (401 Southwest 2nd Street\, Fort L
 auderdale\, FL 33312)
SUMMARY:Route to 2050 Metropolitan Transportation Plan Summit Event
URL:https://www.browardmpo.org/calendar/event/1715-route-to-2050-metropolit
 an-transportation-plan-summit-event
END:VEVENT
END:VCALENDAR
