BEGIN:VCALENDAR
VERSION:2.0
PRODID:-//https://www.browardmpo.org///NONSGML kigkonsult.se iCalcreator 2.10.15//
METHOD:PUBLISH
BEGIN:VEVENT
UID:20260421T173707UTC-3924Z5z87H@https://www.browardmpo.org/
DTSTAMP:20260421T173707Z
DESCRIPTION:Register in advance for this webinar:https://us02web.zoom.us/we
 binar/register/WN_2ANWdqFyQiuhTBK9m7GV6w\n&nbsp\;\nAfter registering\, you
  will receive a confirmation email containing information about joining th
 e webinar. https://www.browardmpo.org/calendar/event/1517-broward-ss4a-sol
 icitation-webinar
DTSTART:20230727T173000Z
DTEND:20230727T183000Z
LOCATION:Broward MPO Zoom Webinar ()
SUMMARY: Broward SS4A Solicitation Webinar
URL:https://www.browardmpo.org/calendar/event/1517-broward-ss4a-solicitatio
 n-webinar
END:VEVENT
END:VCALENDAR
