BEGIN:VCALENDAR
VERSION:2.0
PRODID:-//https://www.browardmpo.org///NONSGML kigkonsult.se iCalcreator 2.10.15//
METHOD:PUBLISH
BEGIN:VEVENT
UID:20260421T192219UTC-0207KI7M7t@https://www.browardmpo.org/
DTSTAMP:20260421T192219Z
DESCRIPTION:Register in advance for this webinar:\nhttps://us02web.zoom.us/
 webinar/register/WN_lUaG2JijTPC5Bgmgdj1RXA\nAfter registering\, you will r
 eceive a confirmation email containing information about joining the webin
 ar. https://www.browardmpo.org/calendar/event/1502-cslip-application-works
 hop
DTSTART:20230726T183000Z
DTEND:20230726T193000Z
LOCATION:Broward MPO Zoom Webinar ()
SUMMARY:CSLIP Application Workshop
URL:https://www.browardmpo.org/calendar/event/1502-cslip-application-worksh
 op
END:VEVENT
END:VCALENDAR
