BEGIN:VCALENDAR
VERSION:2.0
PRODID:-//https://www.browardmpo.org///NONSGML kigkonsult.se iCalcreator 2.10.15//
METHOD:PUBLISH
BEGIN:VEVENT
UID:20260421T210814UTC-3773LeU2um@https://www.browardmpo.org/
DTSTAMP:20260421T210814Z
DESCRIPTION: https://www.browardmpo.org/calendar/event/1518-nw-44th-nw-31-s
 ite-visit
DTSTART:20230725T130000Z
DTEND:20230725T140000Z
LOCATION:4384 NW 31st Ave\, Fort Lauderdale\, FL  33309 ()
SUMMARY:NW 44th & NW 31 Site Visit 
URL:https://www.browardmpo.org/calendar/event/1518-nw-44th-nw-31-site-visit
END:VEVENT
END:VCALENDAR
