BEGIN:VCALENDAR
VERSION:2.0
PRODID:-//https://www.browardmpo.org///NONSGML kigkonsult.se iCalcreator 2.10.15//
METHOD:PUBLISH
BEGIN:VEVENT
UID:20260422T111746UTC-6241bi9EVR@https://www.browardmpo.org/
DTSTAMP:20260422T111746Z
DESCRIPTION: https://www.browardmpo.org/calendar/event/1523-tiger-grant-pro
 ject-completion-press-conference
DTSTART:20230717T140000Z
DTEND:20230717T150000Z
LOCATION:Pompano Beach Senior Activity Center 2005 NW 9TH St. Pompano Beach
 \, FL 33069 ()
SUMMARY:Tiger Grant Project Completion Press Conference 
URL:https://www.browardmpo.org/calendar/event/1523-tiger-grant-project-comp
 letion-press-conference
END:VEVENT
END:VCALENDAR
