BEGIN:VCALENDAR
VERSION:2.0
PRODID:-//https://www.browardmpo.org///NONSGML kigkonsult.se iCalcreator 2.10.15//
METHOD:PUBLISH
BEGIN:VEVENT
UID:20260422T232729UTC-5602s4uv4A@https://www.browardmpo.org/
DTSTAMP:20260422T232729Z
DESCRIPTION:Register in advance for this meeting:https://us02web.zoom.us/me
 eting/register/tZMufuqqqDIpEtQcD2jSHy8kVNgL7XypTxau\nAfter registering\, y
 ou will receive a confirmation email containing information about joining 
 the meeting. https://www.browardmpo.org/calendar/event/1481-complete-stree
 ts-advisory-committee
DTSTART:20230710T180000Z
DTEND:20230710T200000Z
LOCATION:Zoom Virtual Meeting (100 West Cypress Creek Road)
SUMMARY:Complete Streets Advisory Committee
URL:https://www.browardmpo.org/calendar/event/1481-complete-streets-advisor
 y-committee
END:VEVENT
END:VCALENDAR
