BEGIN:VCALENDAR
VERSION:2.0
PRODID:-//https://www.browardmpo.org///NONSGML kigkonsult.se iCalcreator 2.10.15//
METHOD:PUBLISH
BEGIN:VEVENT
UID:20260424T110622UTC-8414ZMZ1rS@https://www.browardmpo.org/
DTSTAMP:20260424T110622Z
DESCRIPTION: https://www.browardmpo.org/calendar/event/1507-office-closure-
 juneteenth
DTSTART:20230619T120000Z
DTEND:20230619T210000Z
LOCATION:Broward MPO Office (100 West Cypress Creek Road)
SUMMARY:Office Closure - Juneteenth
URL:https://www.browardmpo.org/calendar/event/1507-office-closure-juneteent
 h
END:VEVENT
END:VCALENDAR
