BEGIN:VCALENDAR
VERSION:2.0
PRODID:-//https://www.browardmpo.org///NONSGML kigkonsult.se iCalcreator 2.10.15//
METHOD:PUBLISH
BEGIN:VEVENT
UID:20260424T160315UTC-9538KuPjvw@https://www.browardmpo.org/
DTSTAMP:20260424T160315Z
DESCRIPTION: https://www.browardmpo.org/calendar/event/1499-reconnecting-co
 mmunities-meeting-2
DTSTART:20230616T143000Z
DTEND:20230616T163000Z
LOCATION:Broward MPO Office - Executive Conference Room ( 100 West Cypress 
 Creek Road\, 6th Floor\, Suite 650\, Fort Lauderdale\, FL 33309-2112)
SUMMARY:Reconnecting Communities Meeting #2
URL:https://www.browardmpo.org/calendar/event/1499-reconnecting-communities
 -meeting-2
END:VEVENT
END:VCALENDAR
