BEGIN:VCALENDAR
VERSION:2.0
PRODID:-//https://www.browardmpo.org///NONSGML kigkonsult.se iCalcreator 2.10.15//
METHOD:PUBLISH
BEGIN:VEVENT
UID:20260424T211110UTC-8959cUiRuP@https://www.browardmpo.org/
DTSTAMP:20260424T211110Z
DESCRIPTION: https://www.browardmpo.org/calendar/event/1446-resiliency-and-
 affordable-housing-committee-rahc
DTSTART:20230613T180000Z
DTEND:20230613T200000Z
LOCATION:Broward MPO Office - Board Room ( 100 West Cypress Creek Road\, 6t
 h Floor\, Suite 650\, Fort Lauderdale\, FL 33309-2112)
SUMMARY:Resiliency and Affordable Housing Committee (RAHC)
URL:https://www.browardmpo.org/calendar/event/1446-resiliency-and-affordabl
 e-housing-committee-rahc
END:VEVENT
BEGIN:VEVENT
UID:20260424T211110UTC-8960oVtH8x@https://www.browardmpo.org/
DTSTAMP:20260424T211110Z
DESCRIPTION: https://www.browardmpo.org/calendar/event/1498-evaluation-sele
 ction-committee-esc-meeting---rfp-23-02-audit-services
DTSTART:20230613T140000Z
DTEND:20230613T160000Z
LOCATION:Broward MPO Office - Board Room ( 100 West Cypress Creek Road\, 6t
 h Floor\, Suite 650\, Fort Lauderdale\, FL 33309-2112)
SUMMARY:Evaluation & Selection Committee (ESC) Meeting – RFP 23-02 Audit Se
 rvices
URL:https://www.browardmpo.org/calendar/event/1498-evaluation-selection-com
 mittee-esc-meeting---rfp-23-02-audit-services
END:VEVENT
END:VCALENDAR
