BEGIN:VCALENDAR
VERSION:2.0
PRODID:-//https://www.browardmpo.org///NONSGML kigkonsult.se iCalcreator 2.10.15//
METHOD:PUBLISH
BEGIN:VEVENT
UID:20260422T092344UTC-0034sXf7xh@https://www.browardmpo.org/
DTSTAMP:20260422T092344Z
DESCRIPTION:Office closed for&nbsp\;\nMemorial Day 2020 https://www.broward
 mpo.org/calendar/event/958-office-closed-memorial-day
DTSTART;VALUE=DATE:20200525
LOCATION:Broward MPO Office (100 West Cypress Creek Road)
SUMMARY:Office Closed - Memorial Day
URL:https://www.browardmpo.org/calendar/event/958-office-closed-memorial-da
 y
END:VEVENT
END:VCALENDAR
