BEGIN:VCALENDAR
VERSION:2.0
PRODID:-//https://www.browardmpo.org///NONSGML kigkonsult.se iCalcreator 2.10.15//
METHOD:PUBLISH
BEGIN:VEVENT
UID:20260424T110558UTC-2879Ood3Be@https://www.browardmpo.org/
DTSTAMP:20260424T110558Z
DESCRIPTION: https://www.browardmpo.org/calendar/event/534-citizens-advisor
 y-committee-cac
DTSTART:20190522T220000Z
DTEND:20190523T000000Z
LOCATION:Broward MPO Office - Board Room ( 100 West Cypress Creek Road\, 6t
 h Floor\, Suite 650\, Fort Lauderdale\, FL 33309-2112)
SUMMARY:Citizens' Advisory Committee (CAC)
URL:https://www.browardmpo.org/calendar/event/534-citizens-advisory-committ
 ee-cac
END:VEVENT
BEGIN:VEVENT
UID:20260424T110558UTC-2880CTnUu3@https://www.browardmpo.org/
DTSTAMP:20260424T110558Z
DESCRIPTION: https://www.browardmpo.org/calendar/event/572-technical-adviso
 ry-committee-tac
DTSTART:20190522T183000Z
DTEND:20190522T203000Z
LOCATION:Broward MPO Office - Board Room ( 100 West Cypress Creek Road\, 6t
 h Floor\, Suite 650\, Fort Lauderdale\, FL 33309-2112)
SUMMARY:Technical Advisory Committee (TAC)
URL:https://www.browardmpo.org/calendar/event/572-technical-advisory-commit
 tee-tac
END:VEVENT
BEGIN:VEVENT
UID:20260424T110558UTC-2880mONuJr@https://www.browardmpo.org/
DTSTAMP:20260424T110558Z
DESCRIPTION: https://www.browardmpo.org/calendar/event/907-consultant-ranki
 ng-of-proposals-for-fy19-build-grant
DTSTART:20190522T150000Z
DTEND:20190522T160000Z
LOCATION:Broward MPO Office - Executive Conference Room ( 100 West Cypress 
 Creek Road\, 6th Floor\, Suite 650\, Fort Lauderdale\, FL 33309-2112)
SUMMARY:Consultant Ranking of Proposals for FY19 BUILD Grant
URL:https://www.browardmpo.org/calendar/event/907-consultant-ranking-of-pro
 posals-for-fy19-build-grant
END:VEVENT
END:VCALENDAR
