BEGIN:VCALENDAR
VERSION:2.0
PRODID:-//https://www.browardmpo.org///NONSGML kigkonsult.se iCalcreator 2.10.15//
METHOD:PUBLISH
BEGIN:VEVENT
UID:20260424T014606UTC-64159GeIt1@https://www.browardmpo.org/
DTSTAMP:20260424T014606Z
DESCRIPTION: https://www.browardmpo.org/calendar/event/904-coat-meeting
DTSTART:20190516T220000Z
DTEND:20190517T000000Z
LOCATION:Broward MPO Office - Conference Room\, Suite 650 (100 W Cypress Cr
 eek Rd #650\, Fort Lauderdale\, FL 33309\, USA)
SUMMARY:COAT Meeting
URL:https://www.browardmpo.org/calendar/event/904-coat-meeting
END:VEVENT
END:VCALENDAR
