BEGIN:VCALENDAR
VERSION:2.0
PRODID:-//https://www.browardmpo.org///NONSGML kigkonsult.se iCalcreator 2.10.15//
METHOD:PUBLISH
BEGIN:VEVENT
UID:20260424T000120UTC-7874bjTsUx@https://www.browardmpo.org/
DTSTAMP:20260424T000120Z
DESCRIPTION: https://www.browardmpo.org/calendar/event/903-95-express-ramp-
 signal-system-broward-elected-officials-and-staff-briefings---spring-2019
DTSTART:20190515T190000Z
DTEND:20190515T200000Z
LOCATION:Traffic Management Center 2300 W Commercial Boulevard Fort Lauderd
 ale 33309 ()
SUMMARY:95 Express Ramp Signal System Broward Elected Officials and staff B
 riefings – Spring 2019
URL:https://www.browardmpo.org/calendar/event/903-95-express-ramp-signal-sy
 stem-broward-elected-officials-and-staff-briefings---spring-2019
END:VEVENT
END:VCALENDAR
