BEGIN:VCALENDAR
VERSION:2.0
PRODID:-//https://www.browardmpo.org///NONSGML kigkonsult.se iCalcreator 2.10.15//
METHOD:PUBLISH
BEGIN:VEVENT
UID:20260421T132143UTC-5362xFfLo3@https://www.browardmpo.org/
DTSTAMP:20260421T132143Z
DESCRIPTION:In response to the COVID-19 situation in order to allow for soc
 ial distancing\, our meetings are being held virtually. Please click here 
 to register and join the meeting: https://us02web.zoom.us/webinar/register
 /9815876631094/WN_02UUfUL3RrW9ZrXy6yWscA https://www.browardmpo.org/calend
 ar/event/394-mpo-board-meeting
DTSTART:20200514T133000Z
DTEND:20200514T153000Z
LOCATION:Broward MPO Zoom Webinar ()
SUMMARY:MPO Board Meeting
URL:https://www.browardmpo.org/calendar/event/394-mpo-board-meeting
END:VEVENT
END:VCALENDAR
