BEGIN:VCALENDAR
VERSION:2.0
PRODID:-//https://www.browardmpo.org///NONSGML kigkonsult.se iCalcreator 2.10.15//
METHOD:PUBLISH
BEGIN:VEVENT
UID:20260421T114752UTC-08724jRBNI@https://www.browardmpo.org/
DTSTAMP:20260421T114752Z
DESCRIPTION:In response to the COVID-19 situation in order to allow for soc
 ial distancing\, our meetings are being held virtually. Please click here 
 to register and join the meeting:&nbsp\;https://us02web.zoom.us/webinar/re
 gister/WN_EQBxJL14SISqJwWLU5MKLw https://www.browardmpo.org/calendar/event
 /951-regional-transportation-technical-advisory-committee-rttac
DTSTART:20200513T173000Z
DTEND:20200513T203000Z
LOCATION:Broward MPO Zoom Webinar ()
SUMMARY:Regional Transportation Technical Advisory Committee (RTTAC)
URL:https://www.browardmpo.org/calendar/event/951-regional-transportation-t
 echnical-advisory-committee-rttac
END:VEVENT
END:VCALENDAR
