BEGIN:VCALENDAR
VERSION:2.0
PRODID:-//https://www.browardmpo.org///NONSGML kigkonsult.se iCalcreator 2.10.15//
METHOD:PUBLISH
BEGIN:VEVENT
UID:20260425T232615UTC-1177e4EkOT@https://www.browardmpo.org/
DTSTAMP:20260425T232615Z
DESCRIPTION:Register in advance for this webinar:&nbsp\;https://us02web.zoo
 m.us/webinar/register/4016947193517/WN_IqOOfW8FR1mLA3kJwqLqZg\nAfter regis
 tering\, you will receive a confirmation email containing information abou
 t joining the webinar. https://www.browardmpo.org/calendar/event/1407-mpo-
 executive-committee
DTSTART:20230511T130000Z
DTEND:20230511T133000Z
LOCATION:Broward MPO Office - Board Room ( 100 West Cypress Creek Road\, 6t
 h Floor\, Suite 650\, Fort Lauderdale\, FL 33309-2112)
SUMMARY:MPO Executive Committee
URL:https://www.browardmpo.org/calendar/event/1407-mpo-executive-committee
END:VEVENT
BEGIN:VEVENT
UID:20260425T232615UTC-1178nruK6B@https://www.browardmpo.org/
DTSTAMP:20260425T232615Z
DESCRIPTION: https://www.browardmpo.org/calendar/event/1419-mpo-board-meeti
 ng
DTSTART:20230511T133000Z
DTEND:20230512T033000Z
LOCATION:Broward MPO Office - Board Room ( 100 West Cypress Creek Road\, 6t
 h Floor\, Suite 650\, Fort Lauderdale\, FL 33309-2112)
SUMMARY:MPO Board Meeting
URL:https://www.browardmpo.org/calendar/event/1419-mpo-board-meeting
END:VEVENT
BEGIN:VEVENT
UID:20260425T232615UTC-11781wuoDv@https://www.browardmpo.org/
DTSTAMP:20260425T232615Z
DESCRIPTION: https://www.browardmpo.org/calendar/event/1430-metro-transport
 ation-engineering-construction-cooperative-mtecc-board-meeting
DTSTART:20230511T150000Z
DTEND:20230511T160000Z
LOCATION:Broward MPO Office - Executive Conference Room ( 100 West Cypress 
 Creek Road\, 6th Floor\, Suite 650\, Fort Lauderdale\, FL 33309-2112)
SUMMARY:Metro Transportation Engineering & Construction Cooperative (MTECC)
  Board Meeting
URL:https://www.browardmpo.org/calendar/event/1430-metro-transportation-eng
 ineering-construction-cooperative-mtecc-board-meeting
END:VEVENT
END:VCALENDAR
