BEGIN:VCALENDAR
VERSION:2.0
PRODID:-//https://www.browardmpo.org///NONSGML kigkonsult.se iCalcreator 2.10.15//
METHOD:PUBLISH
BEGIN:VEVENT
UID:20260423T122413UTC-2257LCcWpO@https://www.browardmpo.org/
DTSTAMP:20260423T122413Z
DESCRIPTION:Dear transportation partners\,\nThe Broward MPO Complete Street
 s Master Plan (CSMP)\, approved by the Broward MPO Board on February 14th\
 , 2019\, identified Sheridan St. to Douglas Rd. to N 72 Ave. as a high pri
 ority corridor. &nbsp\;Broward MPO staff would like to meet with you to as
 sist in developing the project scope\, establish roles and responsibilitie
 s and discuss funding eligibility requirements. Elements identified in the
  CSMP are described below. &nbsp\;\n\n\n\n\nRank\n\n\nROADWAY NAME\n\n\nLI
 MITS\n\n\nPROPOSED ELEMENTS*\n\n\n\n\n61\n\n\nSHERIDAN ST\n\n\nDOUGLAS RD 
 TO N 72 AVE\n\n\nCONTINUOUS PEDESTRIAN ZONE (SIDEWALK GAPS) ON SOUTH SIDE\
 , BICYCLE LANES\n\n\n\n\n* These are initial elements identified in the CS
 MP.&nbsp\; The final project scope will be developed working together with
  both municipalities and Broward County. https://www.browardmpo.org/calend
 ar/event/900-complete-streets-masterplan-kick-off
DTSTART:20190508T180000Z
DTEND:20190508T190000Z
LOCATION:Broward MPO Office - Executive Conference Room ( 100 West Cypress 
 Creek Road\, 6th Floor\, Suite 650\, Fort Lauderdale\, FL 33309-2112)
SUMMARY:Complete Streets Masterplan Kick-Off
URL:https://www.browardmpo.org/calendar/event/900-complete-streets-masterpl
 an-kick-off
END:VEVENT
END:VCALENDAR
