BEGIN:VCALENDAR
VERSION:2.0
PRODID:-//https://www.browardmpo.org///NONSGML kigkonsult.se iCalcreator 2.10.15//
METHOD:PUBLISH
BEGIN:VEVENT
UID:20260421T163020UTC-8006At0ERZ@https://www.browardmpo.org/
DTSTAMP:20260421T163020Z
DESCRIPTION: https://www.browardmpo.org/calendar/event/881-mayors-elected-o
 fficials-roundtable-steering-committee-meeting
DTSTART:20190412T140000Z
DTEND:20190412T160000Z
LOCATION:Broward MPO Office - Executive Conference Room ( 100 West Cypress 
 Creek Road\, 6th Floor\, Suite 650\, Fort Lauderdale\, FL 33309-2112)
SUMMARY:Mayor's & Elected Officials Roundtable Steering Committee Meeting
URL:https://www.browardmpo.org/calendar/event/881-mayors-elected-officials-
 roundtable-steering-committee-meeting
END:VEVENT
END:VCALENDAR
