BEGIN:VCALENDAR
VERSION:2.0
PRODID:-//https://www.browardmpo.org///NONSGML kigkonsult.se iCalcreator 2.10.15//
METHOD:PUBLISH
BEGIN:VEVENT
UID:20260421T114830UTC-6729RB19bH@https://www.browardmpo.org/
DTSTAMP:20260421T114830Z
DESCRIPTION: https://www.browardmpo.org/calendar/event/886-federal-certific
 ation
DTSTART:20190409T123000Z
DTEND:20190409T140000Z
LOCATION:Broward MPO Office (100 West Cypress Creek Road)
SUMMARY:Federal Certification
URL:https://www.browardmpo.org/calendar/event/886-federal-certification
END:VEVENT
END:VCALENDAR
