BEGIN:VCALENDAR
VERSION:2.0
PRODID:-//https://www.browardmpo.org///NONSGML kigkonsult.se iCalcreator 2.10.15//
METHOD:PUBLISH
BEGIN:VEVENT
UID:20260423T085224UTC-3189nneUxV@https://www.browardmpo.org/
DTSTAMP:20260423T085224Z
DESCRIPTION: https://www.browardmpo.org/calendar/event/885-federal-certific
 ation
DTSTART:20190408T123000Z
DTEND:20190408T210000Z
LOCATION:Broward MPO Office (100 West Cypress Creek Road)
SUMMARY:Federal Certification
URL:https://www.browardmpo.org/calendar/event/885-federal-certification
END:VEVENT
END:VCALENDAR
