BEGIN:VCALENDAR
VERSION:2.0
PRODID:-//https://www.browardmpo.org///NONSGML kigkonsult.se iCalcreator 2.10.15//
METHOD:PUBLISH
BEGIN:VEVENT
UID:20260425T112744UTC-8092x2N91G@https://www.browardmpo.org/
DTSTAMP:20260425T112744Z
DESCRIPTION:The Broward MPO team will conduct an inter-agency coordination 
 and partnerships towards a Ciclovia event.&nbsp\; To register to attend th
 e meeting visit&nbsp\;\nhttps://us02web.zoom.us/meeting/register/tZcrd-2ur
 jovE9e2j3kdQ8u5KCESuAYlVR1-\nPlease feel free to extend this invitation to
  anyone you consider should join this conversation.\n&nbsp\;\n{module titl
 e='For More Information - Stephanie Garcia'} https://www.browardmpo.org/ca
 lendar/event/1321-broward-ciclovia-planning-committee
DTSTART:20220405T180000Z
DTEND:20220405T190000Z
LOCATION:Broward MPO Zoom Webinar ()
SUMMARY:Broward Ciclovia Planning Committee
URL:https://www.browardmpo.org/calendar/event/1321-broward-ciclovia-plannin
 g-committee
END:VEVENT
END:VCALENDAR
