BEGIN:VCALENDAR
VERSION:2.0
PRODID:-//https://www.browardmpo.org///NONSGML kigkonsult.se iCalcreator 2.10.15//
METHOD:PUBLISH
BEGIN:VEVENT
UID:20260424T230055UTC-802207vvFp@https://www.browardmpo.org/
DTSTAMP:20260424T230055Z
DESCRIPTION:{module title='For More Information - Christopher Bross'} https
 ://www.browardmpo.org/calendar/event/1320-trc-evaluation-selection-committ
 ee-discussion-evaluate-and-recommendation-meeting-for-rfq-no-22-01-general
 -planning-consultant-services
DTSTART:20220329T170000Z
DTEND:20220329T200000Z
LOCATION:Broward MPO Office - Board Room ( 100 West Cypress Creek Road\, 6t
 h Floor\, Suite 650\, Fort Lauderdale\, FL 33309-2112)
SUMMARY:TRC Evaluation/Selection Committee Discussion\, Evaluate and Recomm
 endation Meeting for RFQ No. 22-01 General Planning Consultant Services
URL:https://www.browardmpo.org/calendar/event/1320-trc-evaluation-selection
 -committee-discussion-evaluate-and-recommendation-meeting-for-rfq-no-22-01
 -general-planning-consultant-services
END:VEVENT
END:VCALENDAR
