BEGIN:VCALENDAR
VERSION:2.0
PRODID:-//https://www.browardmpo.org///NONSGML kigkonsult.se iCalcreator 2.10.15//
METHOD:PUBLISH
BEGIN:VEVENT
UID:20260424T142613UTC-8592zVjt6g@https://www.browardmpo.org/
DTSTAMP:20260424T142613Z
DESCRIPTION:{module title='For More Information - Christopher Bross'} https
 ://www.browardmpo.org/calendar/event/1319-reconvene-evaluation-selection-c
 ommittee-meeting-to-confirm-and-discuss-corrected-calculated-scores-for-rf
 q-no-22-01-general-planning-consultant-services
DTSTART:20220324T203000Z
DTEND:20220324T213000Z
LOCATION:Broward MPO Office - Board Room ( 100 West Cypress Creek Road\, 6t
 h Floor\, Suite 650\, Fort Lauderdale\, FL 33309-2112)
SUMMARY:Reconvene Evaluation/Selection Committee Meeting to Confirm and Dis
 cuss Corrected Calculated Scores for RFQ No. 22-01 General Planning Consul
 tant Services
URL:https://www.browardmpo.org/calendar/event/1319-reconvene-evaluation-sel
 ection-committee-meeting-to-confirm-and-discuss-corrected-calculated-score
 s-for-rfq-no-22-01-general-planning-consultant-services
END:VEVENT
END:VCALENDAR
