BEGIN:VCALENDAR
VERSION:2.0
PRODID:-//https://www.browardmpo.org///NONSGML kigkonsult.se iCalcreator 2.10.15//
METHOD:PUBLISH
BEGIN:VEVENT
UID:20260424T124837UTC-2744cTL0im@https://www.browardmpo.org/
DTSTAMP:20260424T124837Z
DESCRIPTION:While it is a requirement for committee members to physically a
 ttend this meeting to satisfy quorum (with masks being recommended for any
 one in the building)\, it is highly encouraged for the public to participa
 te virtually. To participate virtually\, please click here to register and
  join the meeting:\nhttps://us02web.zoom.us/webinar/register/9716389185943
 /WN_seGED0G_RjOW-AzKKQzKcQ\n{module For More Information - Rebecca Schultz
 } https://www.browardmpo.org/calendar/event/1259-technical-advisory-commit
 tee-tac
DTSTART:20220323T183000Z
DTEND:20220323T203000Z
LOCATION:Broward MPO Office - Board Room ( 100 West Cypress Creek Road\, 6t
 h Floor\, Suite 650\, Fort Lauderdale\, FL 33309-2112)
SUMMARY:Technical Advisory Committee (TAC)
URL:https://www.browardmpo.org/calendar/event/1259-technical-advisory-commi
 ttee-tac
END:VEVENT
BEGIN:VEVENT
UID:20260424T124837UTC-2745SnrUCn@https://www.browardmpo.org/
DTSTAMP:20260424T124837Z
DESCRIPTION:While it is a requirement for committee members to physically a
 ttend this meeting to satisfy quorum (with masks being recommended for any
 one in the building)\, it is highly encouraged for the public to participa
 te virtually. To participate virtually\, please click here to register and
  join the meeting:\n&nbsp\;\n{module For More Information - Rebecca Schult
 z} https://www.browardmpo.org/calendar/event/1271-citizens-advisory-commit
 tee-cac
DTSTART:20220323T220000Z
DTEND:20220324T000000Z
LOCATION:Broward MPO Office - Board Room ( 100 West Cypress Creek Road\, 6t
 h Floor\, Suite 650\, Fort Lauderdale\, FL 33309-2112)
SUMMARY:Citizens' Advisory Committee (CAC)
URL:https://www.browardmpo.org/calendar/event/1271-citizens-advisory-commit
 tee-cac
END:VEVENT
END:VCALENDAR
