BEGIN:VCALENDAR
VERSION:2.0
PRODID:-//https://www.browardmpo.org///NONSGML kigkonsult.se iCalcreator 2.10.15//
METHOD:PUBLISH
BEGIN:VEVENT
UID:20260424T092926UTC-0774Lh1ipg@https://www.browardmpo.org/
DTSTAMP:20260424T092926Z
DESCRIPTION:{module title='For More Information - Christopher Bross'} https
 ://www.browardmpo.org/calendar/event/1318-trc-evaluation-selection-committ
 ee-meeting-for-rfq-no-22-01-general-planning-consultant-services
DTSTART:20220321T180000Z
DTEND:20220321T200000Z
LOCATION:Broward MPO Office - Board Room ( 100 West Cypress Creek Road\, 6t
 h Floor\, Suite 650\, Fort Lauderdale\, FL 33309-2112)
SUMMARY:TRC Evaluation/Selection Committee Meeting for RFQ No. 22-01 Genera
 l Planning Consultant Services
URL:https://www.browardmpo.org/calendar/event/1318-trc-evaluation-selection
 -committee-meeting-for-rfq-no-22-01-general-planning-consultant-services
END:VEVENT
END:VCALENDAR
