BEGIN:VCALENDAR
VERSION:2.0
PRODID:-//https://www.browardmpo.org///NONSGML kigkonsult.se iCalcreator 2.10.15//
METHOD:PUBLISH
BEGIN:VEVENT
UID:20260423T213609UTC-9810oxtKKB@https://www.browardmpo.org/
DTSTAMP:20260423T213609Z
DESCRIPTION:To participate virtually\, please click here to register and jo
 in the meeting:&nbsp\;https://us02web.zoom.us/meeting/register/tZMufuqqqDI
 pEtQcD2jSHy8kVNgL7XypTxau\n&nbsp\;\n{module For More Information - Ricardo
  Gutierrez} https://www.browardmpo.org/calendar/event/1280-complete-street
 s-advisory-committee
DTSTART:20220314T180000Z
DTEND:20220314T200000Z
LOCATION:Broward MPO Zoom Webinar ()
SUMMARY:Complete Streets Advisory Committee
URL:https://www.browardmpo.org/calendar/event/1280-complete-streets-advisor
 y-committee
END:VEVENT
END:VCALENDAR
