BEGIN:VCALENDAR
VERSION:2.0
PRODID:-//https://www.browardmpo.org///NONSGML kigkonsult.se iCalcreator 2.10.15//
METHOD:PUBLISH
BEGIN:VEVENT
UID:20260423T175724UTC-7668nUaVlP@https://www.browardmpo.org/
DTSTAMP:20260423T175724Z
DESCRIPTION:\n&nbsp\;\n{module title='For More Information - Khyra Everette
 '} https://www.browardmpo.org/calendar/event/1317-rec-set-go
DTSTART:20220312T150000Z
DTEND:20220312T170000Z
LOCATION:Spring Valley Park (1700 NW 160th avenue pembroke pines\, fl 33028
 )
SUMMARY:REC SET GO!
URL:https://www.browardmpo.org/calendar/event/1317-rec-set-go
END:VEVENT
END:VCALENDAR
